BEGIN:VCALENDAR
VERSION:2.0
PRODID:-//St Mark&#039;s Episcopal Church - ECPv6.15.15//NONSGML v1.0//EN
CALSCALE:GREGORIAN
METHOD:PUBLISH
X-WR-CALNAME:St Mark&#039;s Episcopal Church
X-ORIGINAL-URL:https://saint-marks.com
X-WR-CALDESC:Events for St Mark&#039;s Episcopal Church
REFRESH-INTERVAL;VALUE=DURATION:PT1H
X-Robots-Tag:noindex
X-PUBLISHED-TTL:PT1H
BEGIN:VTIMEZONE
TZID:America/Los_Angeles
BEGIN:DAYLIGHT
TZOFFSETFROM:-0800
TZOFFSETTO:-0700
TZNAME:PDT
DTSTART:20280312T100000
END:DAYLIGHT
BEGIN:STANDARD
TZOFFSETFROM:-0700
TZOFFSETTO:-0800
TZNAME:PST
DTSTART:20281105T090000
END:STANDARD
BEGIN:DAYLIGHT
TZOFFSETFROM:-0800
TZOFFSETTO:-0700
TZNAME:PDT
DTSTART:20290311T100000
END:DAYLIGHT
BEGIN:STANDARD
TZOFFSETFROM:-0700
TZOFFSETTO:-0800
TZNAME:PST
DTSTART:20291104T090000
END:STANDARD
BEGIN:DAYLIGHT
TZOFFSETFROM:-0800
TZOFFSETTO:-0700
TZNAME:PDT
DTSTART:20300310T100000
END:DAYLIGHT
BEGIN:STANDARD
TZOFFSETFROM:-0700
TZOFFSETTO:-0800
TZNAME:PST
DTSTART:20301103T090000
END:STANDARD
END:VTIMEZONE
BEGIN:VEVENT
DTSTART;TZID=America/Los_Angeles:20291030T190000
DTEND;TZID=America/Los_Angeles:20291030T203000
DTSTAMP:20260423T074143
CREATED:20251006T214437Z
LAST-MODIFIED:20251006T221447Z
UID:10011930-1888081200-1888086600@saint-marks.com
SUMMARY:Scripture Discussion: Revelation for Normal People
DESCRIPTION:Starting in November\, the Scripture Discussion group will be reading and discussing Revelation. \nWe read aloud passages of Scripture and then have discussions following Study Guide materials. All are welcome; no prior Scripture background is needed\, \nThe group meets every-other week in the Kennedy Room (or the Library) on Tuesday Evenings 7:00 PM – 8:15 PM \nContact Ken Bencala [kenbnc@hotmail.com] for more information. \nFor our discussions we will be using the Study Guide Revelation for Normal People: A Guide to the Strangest and Most Dangerous Book in the Bible by Robyn J. Whitaker \nIt has never been more important to read Revelation well. Whether you love it\, hate it\, or avoid it like the plague\, the last book of the Bible’s influence permeates our cultural\, political\, and religious landscapes. From the so-bad-they’re…still bad actually…Left Behind series\, to conspiracy theories about microchips and barcodes\, to all-too-real political discourse and actions\, John’s visions in Revelation reach far beyond anything their ancient author could have imagined. But what did John imagine? Who was he writing for and why? And what’s the deal with all the hideous horned beasts? Join New Testament scholar Robyn Whitaker as she uncovers the real-world contexts behind this ancient apocalyptic text. A world occupied by an oppressive empire\, a marginalized people\, and a God committed to justice. Where a beast overthrown was a declaration of authority and a falling star was a statement of evil’s demise. Where symbols gave voice to resistance and visions provided a glimpse of hope. A world utterly and entirely ancient. Only when we understand Revelation’s ancient contexts can we begin to find meaning from it for our own.
URL:https://saint-marks.com/event/scripture-discussion-revelation-for-normal-people/2029-10-30/
LOCATION:CA
CATEGORIES:Featured
ATTACH;FMTTYPE=image/webp:https://saint-marks.com/wp-content/uploads/2025/10/Revelation4NP_Front_Cover.webp
END:VEVENT
BEGIN:VEVENT
DTSTART;TZID=America/Los_Angeles:20291031T070000
DTEND;TZID=America/Los_Angeles:20291031T080000
DTSTAMP:20260423T074143
CREATED:20260205T173250Z
LAST-MODIFIED:20260205T173250Z
UID:10012117-1888124400-1888128000@saint-marks.com
SUMMARY:Men's Breakfast
DESCRIPTION:The Men’s Breakfast is open to all men of St. Mark’s. We meet every other Wednesday morning at 7:15 a.m. in the Parish Library. We typically choose a book to discuss based on a consensus of what’s on the minds of our members. Breakfast is truly spirit driven with folks bringing what they like\, or nothing but themselves…all are welcome!  Lively and open discussion are always on the menu.
URL:https://saint-marks.com/event/mens-breakfast-2/2029-10-31/
LOCATION:CA
CATEGORIES:Prayer & Worship
ATTACH;FMTTYPE=image/png:https://saint-marks.com/wp-content/uploads/2025/06/Mens-Ministry-Group.png
END:VEVENT
BEGIN:VEVENT
DTSTART;TZID=America/Los_Angeles:20291031T080000
DTEND;TZID=America/Los_Angeles:20291031T083000
DTSTAMP:20260423T074143
CREATED:20260225T204812Z
LAST-MODIFIED:20260225T204812Z
UID:10013666-1888128000-1888129800@saint-marks.com
SUMMARY:Morning Prayer
DESCRIPTION:All are welcome for morning prayers in the Chapel of St. Mary Magdalene from 8:00 a.m. to 8:30 a.m. Mondays\, Tuesdays\, Wednesdays\, and Thursdays.
URL:https://saint-marks.com/event/morning-prayer-3/2029-10-31/
LOCATION:Chapel of St. Mary Magdalene\, 600 Colorado Ave\, Palo Alto\, CA\, 94306
CATEGORIES:Prayer & Worship
ATTACH;FMTTYPE=image/webp:https://saint-marks.com/wp-content/uploads/2026/01/IMG_7951-2.webp
END:VEVENT
BEGIN:VEVENT
DTSTART;TZID=America/Los_Angeles:20291031T083000
DTEND;TZID=America/Los_Angeles:20291031T093000
DTSTAMP:20260423T074143
CREATED:20250218T225556Z
LAST-MODIFIED:20250326T000418Z
UID:10011481-1888129800-1888133400@saint-marks.com
SUMMARY:Centering Prayer
DESCRIPTION:Gather to spend time with God in quiet communion and Centering Prayer
URL:https://saint-marks.com/event/centering-prayers-2/2029-10-31/
LOCATION:Kennedy Room – St. Marks\, 600 Colorado Ave\, Palo Alto\, California\, 94306
CATEGORIES:Prayer & Worship
ATTACH;FMTTYPE=image/jpeg:https://saint-marks.com/wp-content/uploads/2020/10/Candles-1.jpg
END:VEVENT
BEGIN:VEVENT
DTSTART;TZID=America/Los_Angeles:20291031T190000
DTEND;TZID=America/Los_Angeles:20291031T213000
DTSTAMP:20260423T074143
CREATED:20260406T183119Z
LAST-MODIFIED:20260406T183119Z
UID:10014476-1888167600-1888176600@saint-marks.com
SUMMARY:Palo Alto Kendo Dojo
DESCRIPTION:Kendo is a Japanese martial art descended from kenjutsu\, the traditional sword practice of the samurai. Centuries ago\, practitioners developed the shinai (training sword) and kendo-gu (protective equipment) to allow for full-speed practice without the risk of injury. Modern kendo continues this tradition while incorporating a competitive sporting aspect.\n\n\n\n\n\nIf you are interested in joining\, we encourage you to observe one of our practices. This will provide an opportunity to learn more about kendo and our dojo’s specific approach to training.\n\n\n\n\n\nPlease contact us ahead of time to schedule your visit at info@paloaltokendo.org. We would be happy to answer any questions you may have.
URL:https://saint-marks.com/event/palo-alto-kendo-dojo/2029-10-31/
LOCATION:CA
CATEGORIES:External,Featured
ATTACH;FMTTYPE=image/webp:https://saint-marks.com/wp-content/uploads/2026/04/image-2.webp
END:VEVENT
BEGIN:VEVENT
DTSTART;TZID=America/Los_Angeles:20291101T080000
DTEND;TZID=America/Los_Angeles:20291101T083000
DTSTAMP:20260423T074143
CREATED:20260225T204858Z
LAST-MODIFIED:20260225T204858Z
UID:10014186-1888214400-1888216200@saint-marks.com
SUMMARY:Morning Prayer
DESCRIPTION:All are welcome for morning prayers in the Chapel of St. Mary Magdalene from 8:00 a.m. to 8:30 a.m. Mondays\, Tuesdays\, Wednesdays\, and Thursdays.
URL:https://saint-marks.com/event/morning-prayer-4/2029-11-01/
LOCATION:Chapel of St. Mary Magdalene\, 600 Colorado Ave\, Palo Alto\, CA\, 94306
CATEGORIES:Prayer & Worship
ATTACH;FMTTYPE=image/webp:https://saint-marks.com/wp-content/uploads/2026/01/IMG_7951-2.webp
END:VEVENT
BEGIN:VEVENT
DTSTART;TZID=America/Los_Angeles:20291101T193000
DTEND;TZID=America/Los_Angeles:20291101T210000
DTSTAMP:20260423T074143
CREATED:20250218T225630Z
LAST-MODIFIED:20250218T225630Z
UID:10011505-1888255800-1888261200@saint-marks.com
SUMMARY:Choir Rehearsal
DESCRIPTION:
URL:https://saint-marks.com/event/choir-rehearsal-2/2029-11-01/
LOCATION:Sanctuary\, 600 Colorado Ave\, Palo Alto\, CA\, 94306
CATEGORIES:Music
ATTACH;FMTTYPE=image/jpeg:https://saint-marks.com/wp-content/uploads/2024/04/choir.jpg
END:VEVENT
BEGIN:VEVENT
DTSTART;TZID=America/Los_Angeles:20291102T090000
DTEND;TZID=America/Los_Angeles:20291102T100000
DTSTAMP:20260423T074143
CREATED:20250422T140721Z
LAST-MODIFIED:20250422T140721Z
UID:10011588-1888304400-1888308000@saint-marks.com
SUMMARY:Centering Prayer
DESCRIPTION:Gather to spend time with God in quiet communion and Centering Prayer
URL:https://saint-marks.com/event/centering-prayer-3-2-2-2/2029-11-02/
LOCATION:Kennedy Room – St. Marks\, 600 Colorado Ave\, Palo Alto\, California\, 94306
CATEGORIES:Prayer & Worship
ATTACH;FMTTYPE=image/jpeg:https://saint-marks.com/wp-content/uploads/2020/10/Candles-1.jpg
END:VEVENT
BEGIN:VEVENT
DTSTART;TZID=America/Los_Angeles:20291103T100000
DTEND;TZID=America/Los_Angeles:20291103T120000
DTSTAMP:20260423T074143
CREATED:20260224T012134Z
LAST-MODIFIED:20260225T221619Z
UID:10012362-1888394400-1888401600@saint-marks.com
SUMMARY:Taoist Tai Chi
DESCRIPTION:Taoist Tai Chi introductory sessions are held at St. Mark’s Palo Alto in the Parish Hall every Saturday from 10:00 a.m. to 12:00 p.m. Beginners are welcome to join a Taoist Tai Chi™ arts introductory sessions at any time. Group leaders will guide you through the practice which is part of an ancient tradition dating back to the 13th century. Read their Frequently Asked Questions to learn more.
URL:https://saint-marks.com/event/26384/2029-11-03/
LOCATION:CA
CATEGORIES:External,Featured
ATTACH;FMTTYPE=image/webp:https://saint-marks.com/wp-content/uploads/2026/02/Screenshot-2026-02-23-171725.webp
END:VEVENT
BEGIN:VEVENT
DTSTART;TZID=America/Los_Angeles:20291104T080000
DTEND;TZID=America/Los_Angeles:20291104T093000
DTSTAMP:20260423T074143
CREATED:20250611T175516Z
LAST-MODIFIED:20251007T184008Z
UID:10011543-1888473600-1888479000@saint-marks.com
SUMMARY:8 a.m. Liturgy in Chapel of St. Mary Magdalene
DESCRIPTION:Join us for a spoken 8:00 a.m. service from the Book of Common Prayer held in the Chapel of St. Mary Magdalene.
URL:https://saint-marks.com/event/8-a-m-liturgy-at-mary-magdalene-chapel-2-2/2029-11-04/
LOCATION:Chapel of St. Mary Magdalene\, 600 Colorado Ave\, Palo Alto\, CA\, 94306
CATEGORIES:Prayer & Worship
ATTACH;FMTTYPE=image/jpeg:https://saint-marks.com/wp-content/uploads/2023/07/Mary-Magdalene.jpeg
END:VEVENT
BEGIN:VEVENT
DTSTART;TZID=America/Los_Angeles:20291104T100000
DTEND;TZID=America/Los_Angeles:20291104T113000
DTSTAMP:20260423T074143
CREATED:20250218T225737Z
LAST-MODIFIED:20250218T225738Z
UID:10011526-1888480800-1888486200@saint-marks.com
SUMMARY:10 a.m. Liturgy
DESCRIPTION:
URL:https://saint-marks.com/event/10-a-m-liturgy-2/2029-11-04/
LOCATION:Sanctuary\, 600 Colorado Ave\, Palo Alto\, CA\, 94306
CATEGORIES:Prayer & Worship
ATTACH;FMTTYPE=image/jpeg:https://saint-marks.com/wp-content/uploads/2024/09/166-CZA_1013.jpg
END:VEVENT
BEGIN:VEVENT
DTSTART;TZID=America/Los_Angeles:20291105T080000
DTEND;TZID=America/Los_Angeles:20291105T083000
DTSTAMP:20260423T074143
CREATED:20260225T204635Z
LAST-MODIFIED:20260225T204635Z
UID:10012623-1888560000-1888561800@saint-marks.com
SUMMARY:Morning Prayer
DESCRIPTION:All are welcome for morning prayers in the Chapel of St. Mary Magdalene from 8:00 a.m. to 8:30 a.m. Mondays\, Tuesdays\, Wednesdays\, and Thursdays.
URL:https://saint-marks.com/event/morning-prayer/2029-11-05/
LOCATION:Chapel of St. Mary Magdalene\, 600 Colorado Ave\, Palo Alto\, CA\, 94306
CATEGORIES:Prayer & Worship
ATTACH;FMTTYPE=image/webp:https://saint-marks.com/wp-content/uploads/2026/01/IMG_7951-2.webp
END:VEVENT
BEGIN:VEVENT
DTSTART;TZID=America/Los_Angeles:20291106T080000
DTEND;TZID=America/Los_Angeles:20291106T083000
DTSTAMP:20260423T074143
CREATED:20260225T204710Z
LAST-MODIFIED:20260225T204710Z
UID:10013145-1888646400-1888648200@saint-marks.com
SUMMARY:Morning Prayer
DESCRIPTION:All are welcome for morning prayers in the Chapel of St. Mary Magdalene from 8:00 a.m. to 8:30 a.m. Mondays\, Tuesdays\, Wednesdays\, and Thursdays.
URL:https://saint-marks.com/event/morning-prayer-2/2029-11-06/
LOCATION:Chapel of St. Mary Magdalene\, 600 Colorado Ave\, Palo Alto\, CA\, 94306
CATEGORIES:Prayer & Worship
ATTACH;FMTTYPE=image/webp:https://saint-marks.com/wp-content/uploads/2026/01/IMG_7951-2.webp
END:VEVENT
BEGIN:VEVENT
DTSTART;TZID=America/Los_Angeles:20291107T080000
DTEND;TZID=America/Los_Angeles:20291107T083000
DTSTAMP:20260423T074143
CREATED:20260225T204812Z
LAST-MODIFIED:20260225T204812Z
UID:10013667-1888732800-1888734600@saint-marks.com
SUMMARY:Morning Prayer
DESCRIPTION:All are welcome for morning prayers in the Chapel of St. Mary Magdalene from 8:00 a.m. to 8:30 a.m. Mondays\, Tuesdays\, Wednesdays\, and Thursdays.
URL:https://saint-marks.com/event/morning-prayer-3/2029-11-07/
LOCATION:Chapel of St. Mary Magdalene\, 600 Colorado Ave\, Palo Alto\, CA\, 94306
CATEGORIES:Prayer & Worship
ATTACH;FMTTYPE=image/webp:https://saint-marks.com/wp-content/uploads/2026/01/IMG_7951-2.webp
END:VEVENT
BEGIN:VEVENT
DTSTART;TZID=America/Los_Angeles:20291107T083000
DTEND;TZID=America/Los_Angeles:20291107T093000
DTSTAMP:20260423T074143
CREATED:20250218T225556Z
LAST-MODIFIED:20250326T000418Z
UID:10011482-1888734600-1888738200@saint-marks.com
SUMMARY:Centering Prayer
DESCRIPTION:Gather to spend time with God in quiet communion and Centering Prayer
URL:https://saint-marks.com/event/centering-prayers-2/2029-11-07/
LOCATION:Kennedy Room – St. Marks\, 600 Colorado Ave\, Palo Alto\, California\, 94306
CATEGORIES:Prayer & Worship
ATTACH;FMTTYPE=image/jpeg:https://saint-marks.com/wp-content/uploads/2020/10/Candles-1.jpg
END:VEVENT
BEGIN:VEVENT
DTSTART;TZID=America/Los_Angeles:20291107T190000
DTEND;TZID=America/Los_Angeles:20291107T213000
DTSTAMP:20260423T074143
CREATED:20260406T183119Z
LAST-MODIFIED:20260406T183119Z
UID:10014477-1888772400-1888781400@saint-marks.com
SUMMARY:Palo Alto Kendo Dojo
DESCRIPTION:Kendo is a Japanese martial art descended from kenjutsu\, the traditional sword practice of the samurai. Centuries ago\, practitioners developed the shinai (training sword) and kendo-gu (protective equipment) to allow for full-speed practice without the risk of injury. Modern kendo continues this tradition while incorporating a competitive sporting aspect.\n\n\n\n\n\nIf you are interested in joining\, we encourage you to observe one of our practices. This will provide an opportunity to learn more about kendo and our dojo’s specific approach to training.\n\n\n\n\n\nPlease contact us ahead of time to schedule your visit at info@paloaltokendo.org. We would be happy to answer any questions you may have.
URL:https://saint-marks.com/event/palo-alto-kendo-dojo/2029-11-07/
LOCATION:CA
CATEGORIES:External,Featured
ATTACH;FMTTYPE=image/webp:https://saint-marks.com/wp-content/uploads/2026/04/image-2.webp
END:VEVENT
BEGIN:VEVENT
DTSTART;TZID=America/Los_Angeles:20291108T080000
DTEND;TZID=America/Los_Angeles:20291108T083000
DTSTAMP:20260423T074143
CREATED:20260225T204858Z
LAST-MODIFIED:20260225T204858Z
UID:10014187-1888819200-1888821000@saint-marks.com
SUMMARY:Morning Prayer
DESCRIPTION:All are welcome for morning prayers in the Chapel of St. Mary Magdalene from 8:00 a.m. to 8:30 a.m. Mondays\, Tuesdays\, Wednesdays\, and Thursdays.
URL:https://saint-marks.com/event/morning-prayer-4/2029-11-08/
LOCATION:Chapel of St. Mary Magdalene\, 600 Colorado Ave\, Palo Alto\, CA\, 94306
CATEGORIES:Prayer & Worship
ATTACH;FMTTYPE=image/webp:https://saint-marks.com/wp-content/uploads/2026/01/IMG_7951-2.webp
END:VEVENT
BEGIN:VEVENT
DTSTART;TZID=America/Los_Angeles:20291108T193000
DTEND;TZID=America/Los_Angeles:20291108T210000
DTSTAMP:20260423T074143
CREATED:20250218T225630Z
LAST-MODIFIED:20250218T225630Z
UID:10011506-1888860600-1888866000@saint-marks.com
SUMMARY:Choir Rehearsal
DESCRIPTION:
URL:https://saint-marks.com/event/choir-rehearsal-2/2029-11-08/
LOCATION:Sanctuary\, 600 Colorado Ave\, Palo Alto\, CA\, 94306
CATEGORIES:Music
ATTACH;FMTTYPE=image/jpeg:https://saint-marks.com/wp-content/uploads/2024/04/choir.jpg
END:VEVENT
BEGIN:VEVENT
DTSTART;TZID=America/Los_Angeles:20291109T090000
DTEND;TZID=America/Los_Angeles:20291109T100000
DTSTAMP:20260423T074143
CREATED:20250422T140721Z
LAST-MODIFIED:20250422T140721Z
UID:10011589-1888909200-1888912800@saint-marks.com
SUMMARY:Centering Prayer
DESCRIPTION:Gather to spend time with God in quiet communion and Centering Prayer
URL:https://saint-marks.com/event/centering-prayer-3-2-2-2/2029-11-09/
LOCATION:Kennedy Room – St. Marks\, 600 Colorado Ave\, Palo Alto\, California\, 94306
CATEGORIES:Prayer & Worship
ATTACH;FMTTYPE=image/jpeg:https://saint-marks.com/wp-content/uploads/2020/10/Candles-1.jpg
END:VEVENT
BEGIN:VEVENT
DTSTART;TZID=America/Los_Angeles:20291110T100000
DTEND;TZID=America/Los_Angeles:20291110T120000
DTSTAMP:20260423T074143
CREATED:20260224T012134Z
LAST-MODIFIED:20260225T221619Z
UID:10012363-1888999200-1889006400@saint-marks.com
SUMMARY:Taoist Tai Chi
DESCRIPTION:Taoist Tai Chi introductory sessions are held at St. Mark’s Palo Alto in the Parish Hall every Saturday from 10:00 a.m. to 12:00 p.m. Beginners are welcome to join a Taoist Tai Chi™ arts introductory sessions at any time. Group leaders will guide you through the practice which is part of an ancient tradition dating back to the 13th century. Read their Frequently Asked Questions to learn more.
URL:https://saint-marks.com/event/26384/2029-11-10/
LOCATION:CA
CATEGORIES:External,Featured
ATTACH;FMTTYPE=image/webp:https://saint-marks.com/wp-content/uploads/2026/02/Screenshot-2026-02-23-171725.webp
END:VEVENT
BEGIN:VEVENT
DTSTART;TZID=America/Los_Angeles:20291111T080000
DTEND;TZID=America/Los_Angeles:20291111T093000
DTSTAMP:20260423T074143
CREATED:20250611T175516Z
LAST-MODIFIED:20251007T184008Z
UID:10011544-1889078400-1889083800@saint-marks.com
SUMMARY:8 a.m. Liturgy in Chapel of St. Mary Magdalene
DESCRIPTION:Join us for a spoken 8:00 a.m. service from the Book of Common Prayer held in the Chapel of St. Mary Magdalene.
URL:https://saint-marks.com/event/8-a-m-liturgy-at-mary-magdalene-chapel-2-2/2029-11-11/
LOCATION:Chapel of St. Mary Magdalene\, 600 Colorado Ave\, Palo Alto\, CA\, 94306
CATEGORIES:Prayer & Worship
ATTACH;FMTTYPE=image/jpeg:https://saint-marks.com/wp-content/uploads/2023/07/Mary-Magdalene.jpeg
END:VEVENT
BEGIN:VEVENT
DTSTART;TZID=America/Los_Angeles:20291111T100000
DTEND;TZID=America/Los_Angeles:20291111T113000
DTSTAMP:20260423T074143
CREATED:20250218T225737Z
LAST-MODIFIED:20250218T225738Z
UID:10011527-1889085600-1889091000@saint-marks.com
SUMMARY:10 a.m. Liturgy
DESCRIPTION:
URL:https://saint-marks.com/event/10-a-m-liturgy-2/2029-11-11/
LOCATION:Sanctuary\, 600 Colorado Ave\, Palo Alto\, CA\, 94306
CATEGORIES:Prayer & Worship
ATTACH;FMTTYPE=image/jpeg:https://saint-marks.com/wp-content/uploads/2024/09/166-CZA_1013.jpg
END:VEVENT
BEGIN:VEVENT
DTSTART;TZID=America/Los_Angeles:20291112T080000
DTEND;TZID=America/Los_Angeles:20291112T083000
DTSTAMP:20260423T074143
CREATED:20260225T204635Z
LAST-MODIFIED:20260225T204635Z
UID:10012624-1889164800-1889166600@saint-marks.com
SUMMARY:Morning Prayer
DESCRIPTION:All are welcome for morning prayers in the Chapel of St. Mary Magdalene from 8:00 a.m. to 8:30 a.m. Mondays\, Tuesdays\, Wednesdays\, and Thursdays.
URL:https://saint-marks.com/event/morning-prayer/2029-11-12/
LOCATION:Chapel of St. Mary Magdalene\, 600 Colorado Ave\, Palo Alto\, CA\, 94306
CATEGORIES:Prayer & Worship
ATTACH;FMTTYPE=image/webp:https://saint-marks.com/wp-content/uploads/2026/01/IMG_7951-2.webp
END:VEVENT
BEGIN:VEVENT
DTSTART;TZID=America/Los_Angeles:20291113T080000
DTEND;TZID=America/Los_Angeles:20291113T083000
DTSTAMP:20260423T074143
CREATED:20260225T204710Z
LAST-MODIFIED:20260225T204710Z
UID:10013146-1889251200-1889253000@saint-marks.com
SUMMARY:Morning Prayer
DESCRIPTION:All are welcome for morning prayers in the Chapel of St. Mary Magdalene from 8:00 a.m. to 8:30 a.m. Mondays\, Tuesdays\, Wednesdays\, and Thursdays.
URL:https://saint-marks.com/event/morning-prayer-2/2029-11-13/
LOCATION:Chapel of St. Mary Magdalene\, 600 Colorado Ave\, Palo Alto\, CA\, 94306
CATEGORIES:Prayer & Worship
ATTACH;FMTTYPE=image/webp:https://saint-marks.com/wp-content/uploads/2026/01/IMG_7951-2.webp
END:VEVENT
BEGIN:VEVENT
DTSTART;TZID=America/Los_Angeles:20291113T190000
DTEND;TZID=America/Los_Angeles:20291113T203000
DTSTAMP:20260423T074143
CREATED:20251006T214437Z
LAST-MODIFIED:20251006T221447Z
UID:10011931-1889290800-1889296200@saint-marks.com
SUMMARY:Scripture Discussion: Revelation for Normal People
DESCRIPTION:Starting in November\, the Scripture Discussion group will be reading and discussing Revelation. \nWe read aloud passages of Scripture and then have discussions following Study Guide materials. All are welcome; no prior Scripture background is needed\, \nThe group meets every-other week in the Kennedy Room (or the Library) on Tuesday Evenings 7:00 PM – 8:15 PM \nContact Ken Bencala [kenbnc@hotmail.com] for more information. \nFor our discussions we will be using the Study Guide Revelation for Normal People: A Guide to the Strangest and Most Dangerous Book in the Bible by Robyn J. Whitaker \nIt has never been more important to read Revelation well. Whether you love it\, hate it\, or avoid it like the plague\, the last book of the Bible’s influence permeates our cultural\, political\, and religious landscapes. From the so-bad-they’re…still bad actually…Left Behind series\, to conspiracy theories about microchips and barcodes\, to all-too-real political discourse and actions\, John’s visions in Revelation reach far beyond anything their ancient author could have imagined. But what did John imagine? Who was he writing for and why? And what’s the deal with all the hideous horned beasts? Join New Testament scholar Robyn Whitaker as she uncovers the real-world contexts behind this ancient apocalyptic text. A world occupied by an oppressive empire\, a marginalized people\, and a God committed to justice. Where a beast overthrown was a declaration of authority and a falling star was a statement of evil’s demise. Where symbols gave voice to resistance and visions provided a glimpse of hope. A world utterly and entirely ancient. Only when we understand Revelation’s ancient contexts can we begin to find meaning from it for our own.
URL:https://saint-marks.com/event/scripture-discussion-revelation-for-normal-people/2029-11-13/
LOCATION:CA
CATEGORIES:Featured
ATTACH;FMTTYPE=image/webp:https://saint-marks.com/wp-content/uploads/2025/10/Revelation4NP_Front_Cover.webp
END:VEVENT
BEGIN:VEVENT
DTSTART;TZID=America/Los_Angeles:20291114T070000
DTEND;TZID=America/Los_Angeles:20291114T080000
DTSTAMP:20260423T074143
CREATED:20260205T173250Z
LAST-MODIFIED:20260205T173250Z
UID:10012118-1889334000-1889337600@saint-marks.com
SUMMARY:Men's Breakfast
DESCRIPTION:The Men’s Breakfast is open to all men of St. Mark’s. We meet every other Wednesday morning at 7:15 a.m. in the Parish Library. We typically choose a book to discuss based on a consensus of what’s on the minds of our members. Breakfast is truly spirit driven with folks bringing what they like\, or nothing but themselves…all are welcome!  Lively and open discussion are always on the menu.
URL:https://saint-marks.com/event/mens-breakfast-2/2029-11-14/
LOCATION:CA
CATEGORIES:Prayer & Worship
ATTACH;FMTTYPE=image/png:https://saint-marks.com/wp-content/uploads/2025/06/Mens-Ministry-Group.png
END:VEVENT
BEGIN:VEVENT
DTSTART;TZID=America/Los_Angeles:20291114T080000
DTEND;TZID=America/Los_Angeles:20291114T083000
DTSTAMP:20260423T074143
CREATED:20260225T204812Z
LAST-MODIFIED:20260225T204812Z
UID:10013668-1889337600-1889339400@saint-marks.com
SUMMARY:Morning Prayer
DESCRIPTION:All are welcome for morning prayers in the Chapel of St. Mary Magdalene from 8:00 a.m. to 8:30 a.m. Mondays\, Tuesdays\, Wednesdays\, and Thursdays.
URL:https://saint-marks.com/event/morning-prayer-3/2029-11-14/
LOCATION:Chapel of St. Mary Magdalene\, 600 Colorado Ave\, Palo Alto\, CA\, 94306
CATEGORIES:Prayer & Worship
ATTACH;FMTTYPE=image/webp:https://saint-marks.com/wp-content/uploads/2026/01/IMG_7951-2.webp
END:VEVENT
BEGIN:VEVENT
DTSTART;TZID=America/Los_Angeles:20291114T083000
DTEND;TZID=America/Los_Angeles:20291114T093000
DTSTAMP:20260423T074143
CREATED:20250218T225556Z
LAST-MODIFIED:20250326T000418Z
UID:10011483-1889339400-1889343000@saint-marks.com
SUMMARY:Centering Prayer
DESCRIPTION:Gather to spend time with God in quiet communion and Centering Prayer
URL:https://saint-marks.com/event/centering-prayers-2/2029-11-14/
LOCATION:Kennedy Room – St. Marks\, 600 Colorado Ave\, Palo Alto\, California\, 94306
CATEGORIES:Prayer & Worship
ATTACH;FMTTYPE=image/jpeg:https://saint-marks.com/wp-content/uploads/2020/10/Candles-1.jpg
END:VEVENT
BEGIN:VEVENT
DTSTART;TZID=America/Los_Angeles:20291114T190000
DTEND;TZID=America/Los_Angeles:20291114T213000
DTSTAMP:20260423T074143
CREATED:20260406T183119Z
LAST-MODIFIED:20260406T183119Z
UID:10014478-1889377200-1889386200@saint-marks.com
SUMMARY:Palo Alto Kendo Dojo
DESCRIPTION:Kendo is a Japanese martial art descended from kenjutsu\, the traditional sword practice of the samurai. Centuries ago\, practitioners developed the shinai (training sword) and kendo-gu (protective equipment) to allow for full-speed practice without the risk of injury. Modern kendo continues this tradition while incorporating a competitive sporting aspect.\n\n\n\n\n\nIf you are interested in joining\, we encourage you to observe one of our practices. This will provide an opportunity to learn more about kendo and our dojo’s specific approach to training.\n\n\n\n\n\nPlease contact us ahead of time to schedule your visit at info@paloaltokendo.org. We would be happy to answer any questions you may have.
URL:https://saint-marks.com/event/palo-alto-kendo-dojo/2029-11-14/
LOCATION:CA
CATEGORIES:External,Featured
ATTACH;FMTTYPE=image/webp:https://saint-marks.com/wp-content/uploads/2026/04/image-2.webp
END:VEVENT
BEGIN:VEVENT
DTSTART;TZID=America/Los_Angeles:20291115T080000
DTEND;TZID=America/Los_Angeles:20291115T083000
DTSTAMP:20260423T074143
CREATED:20260225T204858Z
LAST-MODIFIED:20260225T204858Z
UID:10014188-1889424000-1889425800@saint-marks.com
SUMMARY:Morning Prayer
DESCRIPTION:All are welcome for morning prayers in the Chapel of St. Mary Magdalene from 8:00 a.m. to 8:30 a.m. Mondays\, Tuesdays\, Wednesdays\, and Thursdays.
URL:https://saint-marks.com/event/morning-prayer-4/2029-11-15/
LOCATION:Chapel of St. Mary Magdalene\, 600 Colorado Ave\, Palo Alto\, CA\, 94306
CATEGORIES:Prayer & Worship
ATTACH;FMTTYPE=image/webp:https://saint-marks.com/wp-content/uploads/2026/01/IMG_7951-2.webp
END:VEVENT
END:VCALENDAR