BEGIN:VCALENDAR
VERSION:2.0
PRODID:-//St Mark&#039;s Episcopal Church - ECPv6.15.15//NONSGML v1.0//EN
CALSCALE:GREGORIAN
METHOD:PUBLISH
X-WR-CALNAME:St Mark&#039;s Episcopal Church
X-ORIGINAL-URL:https://saint-marks.com
X-WR-CALDESC:Events for St Mark&#039;s Episcopal Church
REFRESH-INTERVAL;VALUE=DURATION:PT1H
X-Robots-Tag:noindex
X-PUBLISHED-TTL:PT1H
BEGIN:VTIMEZONE
TZID:America/Los_Angeles
BEGIN:DAYLIGHT
TZOFFSETFROM:-0800
TZOFFSETTO:-0700
TZNAME:PDT
DTSTART:20250309T100000
END:DAYLIGHT
BEGIN:STANDARD
TZOFFSETFROM:-0700
TZOFFSETTO:-0800
TZNAME:PST
DTSTART:20251102T090000
END:STANDARD
BEGIN:DAYLIGHT
TZOFFSETFROM:-0800
TZOFFSETTO:-0700
TZNAME:PDT
DTSTART:20260308T100000
END:DAYLIGHT
BEGIN:STANDARD
TZOFFSETFROM:-0700
TZOFFSETTO:-0800
TZNAME:PST
DTSTART:20261101T090000
END:STANDARD
BEGIN:DAYLIGHT
TZOFFSETFROM:-0800
TZOFFSETTO:-0700
TZNAME:PDT
DTSTART:20270314T100000
END:DAYLIGHT
BEGIN:STANDARD
TZOFFSETFROM:-0700
TZOFFSETTO:-0800
TZNAME:PST
DTSTART:20271107T090000
END:STANDARD
END:VTIMEZONE
BEGIN:VEVENT
DTSTART;TZID=America/Los_Angeles:20260514T080000
DTEND;TZID=America/Los_Angeles:20260514T083000
DTSTAMP:20260422T001410
CREATED:20260225T204858Z
LAST-MODIFIED:20260225T204858Z
UID:10014005-1778745600-1778747400@saint-marks.com
SUMMARY:Morning Prayer
DESCRIPTION:All are welcome for morning prayers in the Chapel of St. Mary Magdalene from 8:00 a.m. to 8:30 a.m. Mondays\, Tuesdays\, Wednesdays\, and Thursdays.
URL:https://saint-marks.com/event/morning-prayer-4/2026-05-14/
LOCATION:Chapel of St. Mary Magdalene\, 600 Colorado Ave\, Palo Alto\, CA\, 94306
CATEGORIES:Prayer & Worship
ATTACH;FMTTYPE=image/webp:https://saint-marks.com/wp-content/uploads/2026/01/IMG_7951-2.webp
END:VEVENT
BEGIN:VEVENT
DTSTART;TZID=America/Los_Angeles:20260514T160000
DTEND;TZID=America/Los_Angeles:20260514T170000
DTSTAMP:20260422T001410
CREATED:20260209T203304Z
LAST-MODIFIED:20260217T005510Z
UID:10011802-1778774400-1778778000@saint-marks.com
SUMMARY:Good Reads Book Club
DESCRIPTION:In March\, the Good Reads group will be reading and discussing Ophelia by Lisa Klein. \nThe group meets bi-monthly via Zoom on Thursdays at 4:00 p.m. Contact Marie Highby at mhighby@gmail.com for the Zoom link!
URL:https://saint-marks.com/event/good-reads-october-book-club-2-2-2-2/2026-05-14/
CATEGORIES:Featured,Prayer & Worship
ATTACH;FMTTYPE=image/webp:https://saint-marks.com/wp-content/uploads/2026/02/opehlia-cover.webp
END:VEVENT
BEGIN:VEVENT
DTSTART;TZID=America/Los_Angeles:20260514T190000
DTEND;TZID=America/Los_Angeles:20260514T200000
DTSTAMP:20260422T001410
CREATED:20260413T183312Z
LAST-MODIFIED:20260413T183312Z
UID:10014552-1778785200-1778788800@saint-marks.com
SUMMARY:Ascension Day Service at Stanford Memorial Church
DESCRIPTION:On Thursday\, May 14\, Stanford Canterbury Progressive Christian Campus Ministry will host an Ascension Day service beginning at 7pm. As part of their shared ministry with the Lutheran church\, they will welcome three bishops at that special service! \nYou can find out more about Stanford Canterbury here and see a calendar of other services hosted at Stanford Memorial Church here.
URL:https://saint-marks.com/event/ascension-day-service-at-stanford-memorial-church/
CATEGORIES:External,Featured
ATTACH;FMTTYPE=image/jpeg:https://saint-marks.com/wp-content/uploads/2025/05/stanford-memorial-3.jpg
END:VEVENT
BEGIN:VEVENT
DTSTART;TZID=America/Los_Angeles:20260514T193000
DTEND;TZID=America/Los_Angeles:20260514T210000
DTSTAMP:20260422T001410
CREATED:20250218T225630Z
LAST-MODIFIED:20250218T225630Z
UID:10011258-1778787000-1778792400@saint-marks.com
SUMMARY:Choir Rehearsal
DESCRIPTION:
URL:https://saint-marks.com/event/choir-rehearsal-2/2026-05-14/
LOCATION:Sanctuary\, 600 Colorado Ave\, Palo Alto\, CA\, 94306
CATEGORIES:Music
ATTACH;FMTTYPE=image/jpeg:https://saint-marks.com/wp-content/uploads/2024/04/choir.jpg
END:VEVENT
END:VCALENDAR