BEGIN:VCALENDAR
VERSION:2.0
PRODID:-//St Mark&#039;s Episcopal Church - ECPv6.15.15//NONSGML v1.0//EN
CALSCALE:GREGORIAN
METHOD:PUBLISH
X-WR-CALNAME:St Mark&#039;s Episcopal Church
X-ORIGINAL-URL:https://saint-marks.com
X-WR-CALDESC:Events for St Mark&#039;s Episcopal Church
REFRESH-INTERVAL;VALUE=DURATION:PT1H
X-Robots-Tag:noindex
X-PUBLISHED-TTL:PT1H
BEGIN:VTIMEZONE
TZID:America/Los_Angeles
BEGIN:DAYLIGHT
TZOFFSETFROM:-0800
TZOFFSETTO:-0700
TZNAME:PDT
DTSTART:20250309T100000
END:DAYLIGHT
BEGIN:STANDARD
TZOFFSETFROM:-0700
TZOFFSETTO:-0800
TZNAME:PST
DTSTART:20251102T090000
END:STANDARD
BEGIN:DAYLIGHT
TZOFFSETFROM:-0800
TZOFFSETTO:-0700
TZNAME:PDT
DTSTART:20260308T100000
END:DAYLIGHT
BEGIN:STANDARD
TZOFFSETFROM:-0700
TZOFFSETTO:-0800
TZNAME:PST
DTSTART:20261101T090000
END:STANDARD
BEGIN:DAYLIGHT
TZOFFSETFROM:-0800
TZOFFSETTO:-0700
TZNAME:PDT
DTSTART:20270314T100000
END:DAYLIGHT
BEGIN:STANDARD
TZOFFSETFROM:-0700
TZOFFSETTO:-0800
TZNAME:PST
DTSTART:20271107T090000
END:STANDARD
END:VTIMEZONE
BEGIN:VEVENT
DTSTART;TZID=America/Los_Angeles:20260410T090000
DTEND;TZID=America/Los_Angeles:20260410T100000
DTSTAMP:20260421T063325
CREATED:20250422T140721Z
LAST-MODIFIED:20250422T140721Z
UID:10008821-1775811600-1775815200@saint-marks.com
SUMMARY:Centering Prayer
DESCRIPTION:Gather to spend time with God in quiet communion and Centering Prayer
URL:https://saint-marks.com/event/centering-prayer-3-2-2-2/2026-04-10/
LOCATION:Kennedy Room – St. Marks\, 600 Colorado Ave\, Palo Alto\, California\, 94306
CATEGORIES:Prayer & Worship
ATTACH;FMTTYPE=image/jpeg:https://saint-marks.com/wp-content/uploads/2020/10/Candles-1.jpg
END:VEVENT
BEGIN:VEVENT
DTSTART;TZID=America/Los_Angeles:20260410T190000
DTEND;TZID=America/Los_Angeles:20260410T210000
DTSTAMP:20260421T063325
CREATED:20260309T205020Z
LAST-MODIFIED:20260309T205051Z
UID:10014272-1775847600-1775854800@saint-marks.com
SUMMARY:Spiritual Cafe
DESCRIPTION:The St. Mark’s family is full of talent! Join us for a celebration of our artistic gifts. Do you sing\, play an instrument\, dance\, write poetry? Do you paint\, draw\, or sculpt? Visual art is also welcome. Is your gift being an awesome audience member? We need you\, too! Join us for the Spiritual Cafe on Friday\, April 10 at 7:00 p.m. If you have a gift to share\, please email Debbie Clark at dixiedebsue@yahoo.com.
URL:https://saint-marks.com/event/spiritual-cafe/
CATEGORIES:Featured
ATTACH;FMTTYPE=image/webp:https://saint-marks.com/wp-content/uploads/2025/10/Parish-Retreat-11.webp
END:VEVENT
END:VCALENDAR