BEGIN:VCALENDAR
VERSION:2.0
PRODID:-//St Mark&#039;s Episcopal Church - ECPv6.15.15//NONSGML v1.0//EN
CALSCALE:GREGORIAN
METHOD:PUBLISH
X-WR-CALNAME:St Mark&#039;s Episcopal Church
X-ORIGINAL-URL:https://saint-marks.com
X-WR-CALDESC:Events for St Mark&#039;s Episcopal Church
REFRESH-INTERVAL;VALUE=DURATION:PT1H
X-Robots-Tag:noindex
X-PUBLISHED-TTL:PT1H
BEGIN:VTIMEZONE
TZID:America/Los_Angeles
BEGIN:DAYLIGHT
TZOFFSETFROM:-0800
TZOFFSETTO:-0700
TZNAME:PDT
DTSTART:20250309T100000
END:DAYLIGHT
BEGIN:STANDARD
TZOFFSETFROM:-0700
TZOFFSETTO:-0800
TZNAME:PST
DTSTART:20251102T090000
END:STANDARD
BEGIN:DAYLIGHT
TZOFFSETFROM:-0800
TZOFFSETTO:-0700
TZNAME:PDT
DTSTART:20260308T100000
END:DAYLIGHT
BEGIN:STANDARD
TZOFFSETFROM:-0700
TZOFFSETTO:-0800
TZNAME:PST
DTSTART:20261101T090000
END:STANDARD
BEGIN:DAYLIGHT
TZOFFSETFROM:-0800
TZOFFSETTO:-0700
TZNAME:PDT
DTSTART:20270314T100000
END:DAYLIGHT
BEGIN:STANDARD
TZOFFSETFROM:-0700
TZOFFSETTO:-0800
TZNAME:PST
DTSTART:20271107T090000
END:STANDARD
END:VTIMEZONE
BEGIN:VEVENT
DTSTART;TZID=America/Los_Angeles:20260401T080000
DTEND;TZID=America/Los_Angeles:20260401T083000
DTSTAMP:20260421T062644
CREATED:20260225T204812Z
LAST-MODIFIED:20260225T204812Z
UID:10013479-1775030400-1775032200@saint-marks.com
SUMMARY:Morning Prayer
DESCRIPTION:All are welcome for morning prayers in the Chapel of St. Mary Magdalene from 8:00 a.m. to 8:30 a.m. Mondays\, Tuesdays\, Wednesdays\, and Thursdays.
URL:https://saint-marks.com/event/morning-prayer-3/2026-04-01/
LOCATION:Chapel of St. Mary Magdalene\, 600 Colorado Ave\, Palo Alto\, CA\, 94306
CATEGORIES:Prayer & Worship
ATTACH;FMTTYPE=image/webp:https://saint-marks.com/wp-content/uploads/2026/01/IMG_7951-2.webp
END:VEVENT
BEGIN:VEVENT
DTSTART;TZID=America/Los_Angeles:20260401T083000
DTEND;TZID=America/Los_Angeles:20260401T093000
DTSTAMP:20260421T062644
CREATED:20250218T225556Z
LAST-MODIFIED:20250326T000418Z
UID:10009698-1775032200-1775035800@saint-marks.com
SUMMARY:Centering Prayer
DESCRIPTION:Gather to spend time with God in quiet communion and Centering Prayer
URL:https://saint-marks.com/event/centering-prayers-2/2026-04-01/
LOCATION:Kennedy Room – St. Marks\, 600 Colorado Ave\, Palo Alto\, California\, 94306
CATEGORIES:Prayer & Worship
ATTACH;FMTTYPE=image/jpeg:https://saint-marks.com/wp-content/uploads/2020/10/Candles-1.jpg
END:VEVENT
BEGIN:VEVENT
DTSTART;TZID=America/Los_Angeles:20260401T180000
DTEND;TZID=America/Los_Angeles:20260401T193000
DTSTAMP:20260421T062644
CREATED:20260309T200922Z
LAST-MODIFIED:20260309T200922Z
UID:10014263-1775066400-1775071800@saint-marks.com
SUMMARY:Holy Wednesday Tenebrae Service
DESCRIPTION:This musical service includes readings\, psalms\, and chant focused on the crucifixion\, accompanied by a progressive dimming of lights and extinguishing of candles.
URL:https://saint-marks.com/event/holy-wednesday-tenebrae-service/
CATEGORIES:Featured
ATTACH;FMTTYPE=image/jpeg:https://saint-marks.com/wp-content/uploads/2024/04/©JosephQuever_StMarks_1-24_DSC5363-copy2.jpg
END:VEVENT
END:VCALENDAR